Package: MetaboAnnotation Version: 1.13.1 Command: rm -rf MetaboAnnotation.buildbin-libdir && mkdir MetaboAnnotation.buildbin-libdir && F:\biocbuild\bbs-3.22-bioc\R\bin\R.exe CMD INSTALL --build --library=MetaboAnnotation.buildbin-libdir MetaboAnnotation_1.13.1.tar.gz StartedAt: 2025-08-15 10:39:20 -0400 (Fri, 15 Aug 2025) EndedAt: 2025-08-15 10:41:42 -0400 (Fri, 15 Aug 2025) EllapsedTime: 141.2 seconds RetCode: 0 Status: OK PackageFile: MetaboAnnotation_1.13.1.zip PackageFileSize: 1.693 MiB