Package: MetaboAnnotation Version: 1.15.0 Command: /home/biocbuild/bbs-3.23-bioc/R/bin/R CMD INSTALL MetaboAnnotation StartedAt: 2025-11-27 15:35:34 -0500 (Thu, 27 Nov 2025) EndedAt: 2025-11-27 15:36:15 -0500 (Thu, 27 Nov 2025) EllapsedTime: 41.2 seconds RetCode: 0 Status: OK