Package: MetaboAnnotation Version: 1.15.0 Command: /home/biocbuild/bbs-3.23-bioc/R/bin/R CMD check --install=check:MetaboAnnotation.install-out.txt --library=/home/biocbuild/bbs-3.23-bioc/R/site-library --timings MetaboAnnotation_1.15.0.tar.gz StartedAt: 2025-11-28 01:10:25 -0500 (Fri, 28 Nov 2025) EndedAt: 2025-11-28 01:16:54 -0500 (Fri, 28 Nov 2025) EllapsedTime: 388.5 seconds RetCode: 0 Status: OK CheckDir: MetaboAnnotation.Rcheck Warnings: 0