Package: MetaPhOR Version: 1.11.0 Command: /home/biocbuild/bbs-3.22-bioc/R/bin/R CMD check --install=check:MetaPhOR.install-out.txt --library=/home/biocbuild/bbs-3.22-bioc/R/site-library --timings MetaPhOR_1.11.0.tar.gz StartedAt: 2025-10-16 02:04:22 -0400 (Thu, 16 Oct 2025) EndedAt: 2025-10-16 02:27:46 -0400 (Thu, 16 Oct 2025) EllapsedTime: 1403.2 seconds RetCode: 0 Status: OK CheckDir: MetaPhOR.Rcheck Warnings: 0