Package: MetaPhOR Version: 1.13.0 Command: /home/biocbuild/bbs-3.23-bioc/R/bin/R CMD check --install=check:MetaPhOR.install-out.txt --library=/home/biocbuild/bbs-3.23-bioc/R/site-library --timings MetaPhOR_1.13.0.tar.gz StartedAt: 2025-11-22 01:11:13 -0500 (Sat, 22 Nov 2025) EndedAt: 2025-11-22 01:35:19 -0500 (Sat, 22 Nov 2025) EllapsedTime: 1446.7 seconds RetCode: 0 Status: OK CheckDir: MetaPhOR.Rcheck Warnings: 0