Package: MetaNeighbor Version: 1.29.0 Command: /home/biocbuild/R/R/bin/R CMD INSTALL MetaNeighbor StartedAt: 2025-10-20 20:34:40 -0000 (Mon, 20 Oct 2025) EndedAt: 2025-10-20 20:34:46 -0000 (Mon, 20 Oct 2025) EllapsedTime: 5.4 seconds RetCode: 0 Status: OK