Package: MetaNeighbor Version: 1.29.0 Command: F:\biocbuild\bbs-3.22-bioc\R\bin\R.exe CMD INSTALL MetaNeighbor StartedAt: 2025-08-14 16:07:37 -0400 (Thu, 14 Aug 2025) EndedAt: 2025-08-14 16:08:13 -0400 (Thu, 14 Aug 2025) EllapsedTime: 35.9 seconds RetCode: 0 Status: OK