Package: MetaNeighbor Version: 1.29.0 Command: chmod a+r MetaNeighbor -R && F:\biocbuild\bbs-3.22-bioc\R\bin\R.exe CMD build --keep-empty-dirs --no-resave-data MetaNeighbor StartedAt: 2025-08-14 21:20:08 -0400 (Thu, 14 Aug 2025) EndedAt: 2025-08-14 21:21:08 -0400 (Thu, 14 Aug 2025) EllapsedTime: 60.1 seconds RetCode: 0 Status: OK PackageFile: MetaNeighbor_1.29.0.tar.gz PackageFileSize: 3.197 MiB