Package: MetaNeighbor Version: 1.29.0 Command: rm -rf MetaNeighbor.buildbin-libdir && mkdir MetaNeighbor.buildbin-libdir && F:\biocbuild\bbs-3.22-bioc\R\bin\R.exe CMD INSTALL --build --library=MetaNeighbor.buildbin-libdir MetaNeighbor_1.29.0.tar.gz StartedAt: 2025-08-15 10:39:49 -0400 (Fri, 15 Aug 2025) EndedAt: 2025-08-15 10:40:16 -0400 (Fri, 15 Aug 2025) EllapsedTime: 27.1 seconds RetCode: 0 Status: OK PackageFile: MetaNeighbor_1.29.0.zip PackageFileSize: 4.171 MiB