Package: MetaNeighbor Version: 1.31.0 Command: /home/biocbuild/bbs-3.23-bioc/R/bin/R CMD check --install=check:MetaNeighbor.install-out.txt --library=/home/biocbuild/bbs-3.23-bioc/R/site-library --timings MetaNeighbor_1.31.0.tar.gz StartedAt: 2025-11-21 01:12:20 -0500 (Fri, 21 Nov 2025) EndedAt: 2025-11-21 01:14:21 -0500 (Fri, 21 Nov 2025) EllapsedTime: 121.1 seconds RetCode: 1 Status: ERROR CheckDir: MetaNeighbor.Rcheck Warnings: NA