Package: MetaNeighbor Version: 1.31.0 Command: /home/biocbuild/bbs-3.23-bioc/R/bin/R CMD build --keep-empty-dirs --no-resave-data MetaNeighbor StartedAt: 2025-11-20 18:32:29 -0500 (Thu, 20 Nov 2025) EndedAt: 2025-11-20 18:33:02 -0500 (Thu, 20 Nov 2025) EllapsedTime: 33.0 seconds RetCode: 0 Status: OK PackageFile: MetaNeighbor_1.31.0.tar.gz PackageFileSize: 3.195 MiB