Package: MetaDICT Version: 0.99.4 Command: /home/biocbuild/R/R/bin/R CMD INSTALL MetaDICT StartedAt: 2025-10-16 21:19:28 -0000 (Thu, 16 Oct 2025) EndedAt: 2025-10-16 21:20:00 -0000 (Thu, 16 Oct 2025) EllapsedTime: 31.5 seconds RetCode: 0 Status: OK