Package: MetaDICT Version: 0.99.4 Command: /home/biocbuild/R/R/bin/R CMD build --keep-empty-dirs --no-resave-data MetaDICT StartedAt: 2025-10-17 02:28:47 -0000 (Fri, 17 Oct 2025) EndedAt: 2025-10-17 02:34:46 -0000 (Fri, 17 Oct 2025) EllapsedTime: 359.1 seconds RetCode: 0 Status: OK PackageFile: MetaDICT_0.99.4.tar.gz PackageFileSize: 1.092 MiB