Package: MetaDICT Version: 0.99.4 Command: /home/biocbuild/bbs-3.22-bioc/R/bin/R CMD INSTALL MetaDICT StartedAt: 2025-10-03 15:08:47 -0400 (Fri, 03 Oct 2025) EndedAt: 2025-10-03 15:08:59 -0400 (Fri, 03 Oct 2025) EllapsedTime: 12.0 seconds RetCode: 0 Status: OK