Package: MetaDICT Version: 0.99.4 Command: /home/biocbuild/bbs-3.22-bioc/R/bin/R CMD check --install=check:MetaDICT.install-out.txt --library=/home/biocbuild/bbs-3.22-bioc/R/site-library --timings MetaDICT_0.99.4.tar.gz StartedAt: 2025-10-04 01:23:22 -0400 (Sat, 04 Oct 2025) EndedAt: 2025-10-04 01:38:57 -0400 (Sat, 04 Oct 2025) EllapsedTime: 934.8 seconds RetCode: 0 Status: OK CheckDir: MetaDICT.Rcheck Warnings: 0