Package: MetaDICT Version: 0.99.4 Command: /home/biocbuild/bbs-3.22-bioc/R/bin/R CMD build --keep-empty-dirs --no-resave-data --md5 MetaDICT StartedAt: 2025-10-03 18:30:22 -0400 (Fri, 03 Oct 2025) EndedAt: 2025-10-03 18:37:40 -0400 (Fri, 03 Oct 2025) EllapsedTime: 438.3 seconds RetCode: 0 Status: OK PackageFile: MetaDICT_0.99.4.tar.gz PackageFileSize: 2.146 MiB