Package: MetaDICT Version: 1.1.0 Command: /home/biocbuild/bbs-3.23-bioc/R/bin/R CMD INSTALL MetaDICT StartedAt: 2025-11-20 15:09:04 -0500 (Thu, 20 Nov 2025) EndedAt: 2025-11-20 15:09:14 -0500 (Thu, 20 Nov 2025) EllapsedTime: 10.4 seconds RetCode: 0 Status: OK