Package: MetaDICT Version: 1.1.0 Command: /home/biocbuild/bbs-3.23-bioc/R/bin/R CMD check --install=check:MetaDICT.install-out.txt --library=/home/biocbuild/bbs-3.23-bioc/R/site-library --timings MetaDICT_1.1.0.tar.gz StartedAt: 2025-11-21 01:11:58 -0500 (Fri, 21 Nov 2025) EndedAt: 2025-11-21 01:27:22 -0500 (Fri, 21 Nov 2025) EllapsedTime: 924.1 seconds RetCode: 0 Status: OK CheckDir: MetaDICT.Rcheck Warnings: 0