Package: MetaDICT Version: 1.1.0 Command: /home/biocbuild/bbs-3.23-bioc/R/bin/R CMD build --keep-empty-dirs --no-resave-data MetaDICT StartedAt: 2025-11-20 18:31:57 -0500 (Thu, 20 Nov 2025) EndedAt: 2025-11-20 18:39:14 -0500 (Thu, 20 Nov 2025) EllapsedTime: 436.3 seconds RetCode: 0 Status: OK PackageFile: MetaDICT_1.1.0.tar.gz PackageFileSize: 2.14 MiB