Package: MetaDICT Version: 0.99.4 Command: /Library/Frameworks/R.framework/Resources/bin/R CMD build --keep-empty-dirs --no-resave-data MetaDICT StartedAt: 2025-10-03 17:44:28 -0400 (Fri, 03 Oct 2025) EndedAt: 2025-10-03 17:51:54 -0400 (Fri, 03 Oct 2025) EllapsedTime: 445.9 seconds RetCode: 0 Status: OK PackageFile: MetaDICT_0.99.4.tar.gz PackageFileSize: 2.202 MiB