Package: MetaDICT Version: 0.99.4 Command: /Library/Frameworks/R.framework/Resources/bin/R CMD INSTALL MetaDICT StartedAt: 2025-10-03 15:05:39 -0400 (Fri, 03 Oct 2025) EndedAt: 2025-10-03 15:05:42 -0400 (Fri, 03 Oct 2025) EllapsedTime: 3.9 seconds RetCode: 0 Status: OK