Package: MetaDICT Version: 0.99.4 Command: rm -rf MetaDICT.buildbin-libdir && mkdir MetaDICT.buildbin-libdir && /Users/biocbuild/BBS/utils/build-universal.sh MetaDICT_0.99.4.tar.gz /Library/Frameworks/R.framework/Resources/bin/R MetaDICT.buildbin-libdir StartedAt: 2025-10-03 22:45:18 -0400 (Fri, 03 Oct 2025) EndedAt: 2025-10-03 22:45:23 -0400 (Fri, 03 Oct 2025) EllapsedTime: 5.1 seconds RetCode: 0 Status: OK PackageFile: MetaDICT_0.99.4.tgz PackageFileSize: 2.254 MiB