Package: MetaDICT Version: 0.99.4 Maintainer: Bo Yuan MaintainerEmail: boyuan5 at illinois.edu git_url: https://git.bioconductor.org/packages/MetaDICT git_branch: devel git_last_commit: 2f68b8f git_last_commit_date: 2025-09-29 18:25:32 -0400 (Mon, 29 Sep 2025)