Package: MetaCyto Version: 1.31.0 Command: /home/biocbuild/bbs-3.22-bioc/R/bin/R CMD check --install=check:MetaCyto.install-out.txt --library=/home/biocbuild/bbs-3.22-bioc/R/site-library --timings MetaCyto_1.31.0.tar.gz StartedAt: 2025-10-15 01:32:33 -0400 (Wed, 15 Oct 2025) EndedAt: 2025-10-15 01:41:09 -0400 (Wed, 15 Oct 2025) EllapsedTime: 515.5 seconds RetCode: 0 Status: OK CheckDir: MetaCyto.Rcheck Warnings: 0