Package: MetaCyto Version: 1.33.0 Command: /home/biocbuild/bbs-3.23-bioc/R/bin/R CMD INSTALL MetaCyto StartedAt: 2025-11-02 15:20:20 -0500 (Sun, 02 Nov 2025) EndedAt: 2025-11-02 15:20:35 -0500 (Sun, 02 Nov 2025) EllapsedTime: 15.1 seconds RetCode: 0 Status: OK