Package: MetaCyto Version: 1.33.0 Command: /home/biocbuild/bbs-3.23-bioc/R/bin/R CMD build --keep-empty-dirs --no-resave-data MetaCyto StartedAt: 2025-10-31 18:40:50 -0400 (Fri, 31 Oct 2025) EndedAt: 2025-10-31 18:44:02 -0400 (Fri, 31 Oct 2025) EllapsedTime: 191.2 seconds RetCode: 0 Status: OK PackageFile: MetaCyto_1.33.0.tar.gz PackageFileSize: 1.018 MiB