Package: MetNet Version: 1.27.2 Command: /home/biocbuild/R/R/bin/R CMD INSTALL MetNet StartedAt: 2025-10-13 21:09:32 -0000 (Mon, 13 Oct 2025) EndedAt: 2025-10-13 21:10:06 -0000 (Mon, 13 Oct 2025) EllapsedTime: 33.8 seconds RetCode: 0 Status: OK