Package: MetNet Version: 1.27.2 Command: /home/biocbuild/R/R/bin/R CMD build --keep-empty-dirs --no-resave-data MetNet StartedAt: 2025-10-14 01:42:51 -0000 (Tue, 14 Oct 2025) EndedAt: 2025-10-14 01:43:48 -0000 (Tue, 14 Oct 2025) EllapsedTime: 57.0 seconds RetCode: 1 Status: ERROR PackageFile: None PackageFileSize: NA