Package: MetNet Version: 1.27.2 Command: /home/biocbuild/bbs-3.22-bioc/R/bin/R CMD check --install=check:MetNet.install-out.txt --library=/home/biocbuild/bbs-3.22-bioc/R/site-library --timings MetNet_1.27.2.tar.gz StartedAt: 2025-10-13 01:35:25 -0400 (Mon, 13 Oct 2025) EndedAt: 2025-10-13 01:41:54 -0400 (Mon, 13 Oct 2025) EllapsedTime: 389.3 seconds RetCode: 1 Status: ERROR CheckDir: MetNet.Rcheck Warnings: NA