Package: MetNet Version: 1.29.0 Command: /home/biocbuild/bbs-3.23-bioc/R/bin/R CMD INSTALL MetNet StartedAt: 2025-11-05 15:39:18 -0500 (Wed, 05 Nov 2025) EndedAt: 2025-11-05 15:39:45 -0500 (Wed, 05 Nov 2025) EllapsedTime: 27.2 seconds RetCode: 0 Status: OK