Package: MetNet Version: 1.27.1 Maintainer: Thomas Naake MaintainerEmail: thomasnaake at googlemail.com git_url: https://git.bioconductor.org/packages/MetNet git_branch: devel git_last_commit: 77ebb88 git_last_commit_date: 2025-10-02 16:57:49 -0400 (Thu, 02 Oct 2025)