Package: MetMashR Version: 1.5.0 Command: /home/biocbuild/bbs-3.23-bioc/R/bin/R CMD build --keep-empty-dirs --no-resave-data MetMashR StartedAt: 2025-11-06 18:32:28 -0500 (Thu, 06 Nov 2025) EndedAt: 2025-11-06 18:37:03 -0500 (Thu, 06 Nov 2025) EllapsedTime: 274.2 seconds RetCode: 0 Status: OK PackageFile: MetMashR_1.5.0.tar.gz PackageFileSize: 6.063 MiB