Package: MetMashR Version: 1.3.3 Command: /Library/Frameworks/R.framework/Resources/bin/R CMD build --keep-empty-dirs --no-resave-data MetMashR StartedAt: 2025-10-12 17:56:00 -0400 (Sun, 12 Oct 2025) EndedAt: 2025-10-12 18:02:47 -0400 (Sun, 12 Oct 2025) EllapsedTime: 406.7 seconds RetCode: 0 Status: OK PackageFile: MetMashR_1.3.3.tar.gz PackageFileSize: 6.073 MiB