Package: MetMashR Version: 1.3.3 Command: rm -rf MetMashR.buildbin-libdir && mkdir MetMashR.buildbin-libdir && /Users/biocbuild/BBS/utils/build-universal.sh MetMashR_1.3.3.tar.gz /Library/Frameworks/R.framework/Resources/bin/R MetMashR.buildbin-libdir StartedAt: 2025-10-13 02:42:06 -0400 (Mon, 13 Oct 2025) EndedAt: 2025-10-13 02:42:57 -0400 (Mon, 13 Oct 2025) EllapsedTime: 50.8 seconds RetCode: 0 Status: OK PackageFile: MetMashR_1.3.3.tgz PackageFileSize: 6.91 MiB