Package: MetID Version: 1.29.0 Command: /Library/Frameworks/R.framework/Resources/bin/R CMD INSTALL MetID StartedAt: 2025-11-21 15:07:13 -0500 (Fri, 21 Nov 2025) EndedAt: 2025-11-21 15:07:19 -0500 (Fri, 21 Nov 2025) EllapsedTime: 6.0 seconds RetCode: 0 Status: OK