Package: MetCirc Version: 1.41.0 Command: /home/biocbuild/bbs-3.23-bioc/R/bin/R CMD build --keep-empty-dirs --no-resave-data MetCirc StartedAt: 2025-11-07 18:28:57 -0500 (Fri, 07 Nov 2025) EndedAt: 2025-11-07 18:30:00 -0500 (Fri, 07 Nov 2025) EllapsedTime: 63.0 seconds RetCode: 0 Status: OK PackageFile: MetCirc_1.41.0.tar.gz PackageFileSize: 2.068 MiB