Package: MetCirc Version: 1.39.0 Command: rm -rf MetCirc.buildbin-libdir && mkdir MetCirc.buildbin-libdir && /Users/biocbuild/BBS/utils/build-universal.sh MetCirc_1.39.0.tar.gz /Library/Frameworks/R.framework/Resources/bin/R MetCirc.buildbin-libdir StartedAt: 2025-10-14 02:53:02 -0400 (Tue, 14 Oct 2025) EndedAt: 2025-10-14 02:53:27 -0400 (Tue, 14 Oct 2025) EllapsedTime: 24.5 seconds RetCode: 0 Status: OK PackageFile: MetCirc_1.39.0.tgz PackageFileSize: 1.924 MiB