Package: MetCirc Version: 1.39.0 Command: /Library/Frameworks/R.framework/Resources/bin/R CMD INSTALL MetCirc StartedAt: 2025-10-13 15:08:38 -0400 (Mon, 13 Oct 2025) EndedAt: 2025-10-13 15:08:45 -0400 (Mon, 13 Oct 2025) EllapsedTime: 6.8 seconds RetCode: 0 Status: OK