Package: MetCirc Version: 1.39.0 Command: /Library/Frameworks/R.framework/Resources/bin/R CMD build --keep-empty-dirs --no-resave-data MetCirc StartedAt: 2025-10-14 16:56:07 -0400 (Tue, 14 Oct 2025) EndedAt: 2025-10-14 16:56:29 -0400 (Tue, 14 Oct 2025) EllapsedTime: 22.2 seconds RetCode: 0 Status: OK PackageFile: MetCirc_1.39.0.tar.gz PackageFileSize: 2.068 MiB