Package: MetCirc Version: 1.39.0 Command: rm -rf MetCirc.buildbin-libdir && mkdir MetCirc.buildbin-libdir && /Users/biocbuild/BBS/utils/build-universal.sh MetCirc_1.39.0.tar.gz /Library/Frameworks/R.framework/Resources/bin/R MetCirc.buildbin-libdir StartedAt: 2025-10-16 23:07:28 -0400 (Thu, 16 Oct 2025) EndedAt: 2025-10-16 23:07:34 -0400 (Thu, 16 Oct 2025) EllapsedTime: 6.1 seconds RetCode: 0 Status: OK PackageFile: MetCirc_1.39.0.tgz PackageFileSize: 1.926 MiB