Package: MesKit Version: 1.19.0 Command: /home/biocbuild/R/R/bin/R CMD INSTALL MesKit StartedAt: 2025-10-02 20:52:46 -0000 (Thu, 02 Oct 2025) EndedAt: 2025-10-02 20:53:15 -0000 (Thu, 02 Oct 2025) EllapsedTime: 29.1 seconds RetCode: 0 Status: OK