Package: MesKit Version: 1.19.0 Command: /home/biocbuild/R/R/bin/R CMD build --keep-empty-dirs --no-resave-data MesKit StartedAt: 2025-10-03 01:07:51 -0000 (Fri, 03 Oct 2025) EndedAt: 2025-10-03 01:10:03 -0000 (Fri, 03 Oct 2025) EllapsedTime: 132.1 seconds RetCode: 0 Status: OK PackageFile: MesKit_1.19.0.tar.gz PackageFileSize: 2.775 MiB