Package: MesKit Version: 1.19.0 Command: chmod a+r MesKit -R && F:\biocbuild\bbs-3.22-bioc\R\bin\R.exe CMD build --keep-empty-dirs --no-resave-data MesKit StartedAt: 2025-08-14 21:18:37 -0400 (Thu, 14 Aug 2025) EndedAt: 2025-08-14 21:20:43 -0400 (Thu, 14 Aug 2025) EllapsedTime: 126.0 seconds RetCode: 0 Status: OK PackageFile: MesKit_1.19.0.tar.gz PackageFileSize: 2.556 MiB