Package: MesKit Version: 1.21.0 Command: /home/biocbuild/bbs-3.23-bioc/R/bin/R CMD check --install=check:MesKit.install-out.txt --library=/home/biocbuild/bbs-3.23-bioc/R/site-library --timings MesKit_1.21.0.tar.gz StartedAt: 2025-11-21 01:10:12 -0500 (Fri, 21 Nov 2025) EndedAt: 2025-11-21 01:19:57 -0500 (Fri, 21 Nov 2025) EllapsedTime: 584.7 seconds RetCode: 0 Status: WARNINGS CheckDir: MesKit.Rcheck Warnings: 1