Package: MesKit Version: 1.21.0 Command: /home/biocbuild/bbs-3.23-bioc/R/bin/R CMD build --keep-empty-dirs --no-resave-data MesKit StartedAt: 2025-11-20 18:30:59 -0500 (Thu, 20 Nov 2025) EndedAt: 2025-11-20 18:32:28 -0500 (Thu, 20 Nov 2025) EllapsedTime: 89.1 seconds RetCode: 0 Status: OK PackageFile: MesKit_1.21.0.tar.gz PackageFileSize: 3.781 MiB