Package: Mergeomics Version: 1.37.0 Command: /home/biocbuild/R/R/bin/R CMD build --keep-empty-dirs --no-resave-data Mergeomics StartedAt: 2025-10-21 01:01:31 -0000 (Tue, 21 Oct 2025) EndedAt: 2025-10-21 01:16:16 -0000 (Tue, 21 Oct 2025) EllapsedTime: 885.3 seconds RetCode: 0 Status: OK PackageFile: Mergeomics_1.37.0.tar.gz PackageFileSize: 3.198 MiB