Package: Mergeomics Version: 1.37.0 Command: chmod a+r Mergeomics -R && F:\biocbuild\bbs-3.22-bioc\R\bin\R.exe CMD build --keep-empty-dirs --no-resave-data Mergeomics StartedAt: 2025-08-14 21:18:18 -0400 (Thu, 14 Aug 2025) EndedAt: 2025-08-14 21:26:49 -0400 (Thu, 14 Aug 2025) EllapsedTime: 510.5 seconds RetCode: 0 Status: OK PackageFile: Mergeomics_1.37.0.tar.gz PackageFileSize: 3.117 MiB