Package: Mergeomics Version: 1.37.0 Command: rm -rf Mergeomics.buildbin-libdir && mkdir Mergeomics.buildbin-libdir && F:\biocbuild\bbs-3.22-bioc\R\bin\R.exe CMD INSTALL --build --library=Mergeomics.buildbin-libdir Mergeomics_1.37.0.tar.gz StartedAt: 2025-08-15 10:38:59 -0400 (Fri, 15 Aug 2025) EndedAt: 2025-08-15 10:39:50 -0400 (Fri, 15 Aug 2025) EllapsedTime: 51.1 seconds RetCode: 0 Status: OK PackageFile: Mergeomics_1.37.0.zip PackageFileSize: 3.328 MiB