Package: Mergeomics Version: 1.39.0 Command: /home/biocbuild/bbs-3.23-bioc/R/bin/R CMD check --install=check:Mergeomics.install-out.txt --library=/home/biocbuild/bbs-3.23-bioc/R/site-library --timings Mergeomics_1.39.0.tar.gz StartedAt: 2025-11-22 01:07:31 -0500 (Sat, 22 Nov 2025) EndedAt: 2025-11-22 01:20:21 -0500 (Sat, 22 Nov 2025) EllapsedTime: 770.0 seconds RetCode: 0 Status: OK CheckDir: Mergeomics.Rcheck Warnings: 0