Package: MeasurementError.cor Version: 1.81.0 Command: chmod a+r MeasurementError.cor -R && F:\biocbuild\bbs-3.22-bioc\R\bin\R.exe CMD build --keep-empty-dirs --no-resave-data MeasurementError.cor StartedAt: 2025-08-14 21:17:17 -0400 (Thu, 14 Aug 2025) EndedAt: 2025-08-14 21:17:34 -0400 (Thu, 14 Aug 2025) EllapsedTime: 16.5 seconds RetCode: 0 Status: OK PackageFile: MeasurementError.cor_1.81.0.tar.gz PackageFileSize: 47.6 KiB